BEGIN:VCALENDAR
VERSION:2.0
PRODID:-//ChamberMaster//Event Calendar 2.0//EN
METHOD:PUBLISH
X-PUBLISHED-TTL:P3D
REFRESH-INTERVAL:P3D
CALSCALE:GREGORIAN
BEGIN:VEVENT
DTSTART:20170914T200000Z
DTEND:20170915T000000Z
X-MICROSOFT-CDO-ALLDAYEVENT:FALSE
SUMMARY:"Yes\, And..." Half-Day Intensive workshop: Improvisation skills for business leaders
DESCRIPTION:Advantage Improv presents\n\n"Yes\, And "\n\nHalf-Day Intensive\n\nIn this workshop\, team members from multiple organizations learn how to boost communication skills and presentation confidence by applying improv-based techniques.\n\n\n\nENROLL NOW FOR THE THU.\, SEP. 14th 2017 1pm to 5pm WORKSHOP\n\n\n\nWHY: Those who can quickly and creatively adapt enjoy a competitive advantage.\n\n \n\nWHO: This workshop is ideal for managers and individual contributors from all departments.\n\n \n\nWHERE: Back Bay Conference Center\, 3415 Michelson Drive\, Irvine\, California 92612\n\n \n\nHOW: Enrollment fee is $297 per person. Employees from the same organization receive a $50 discount.\n\n \n\nENROLL: Call 888-827-2328\, visit www.AdvantageImprov.com\, or email info@AdvantageImprov.com.\n\n\n\nA growing number of forward thinking companies train their employees in the same mental agility skills that enable a team of improvisational performers to create an unscripted scene on stage. \n\n \n\nImprov in business? Yes\, and it's as beneficial as it is fun to learn. \n\n \n\nStudents gain insight and tools to improve active listening\, clear communicating\, confident presenting and creative collaborating.\n\n \n\nComments from recent Advantage Improv training events include: \n\n	"Loved it! Want more!"\n	"It was a great experience."\n	"This was a master class in improv\, working together\, collaboration and trust. Fantastic!"
X-ALT-DESC;FMTTYPE=text/html:<span style="color:#0000CD"><em><span style="font-family:arial\,sans-serif"><span style="font-size:16pt">Advantage Improv </span></span></em><span style="font-family:arial\,sans-serif"><span style="font-size:14pt">presents</span></span></span><br />\n<span style="color:#FF8C00"><strong><em><span style="font-family:arial\,sans-serif"><span style="font-size:28pt">&ldquo\;</span></span></em></strong><strong><em><span style="font-family:arial\,sans-serif"><span style="font-size:36pt">Yes</span></span></em></strong><strong><em><span style="font-family:arial\,sans-serif"><span style="font-size:28pt">\, </span></span></em></strong><strong><em><span style="font-family:arial\,sans-serif"><span style="font-size:36pt">And</span></span></em></strong><strong><em><span style="font-family:arial\,sans-serif"><span style="font-size:22pt">&hellip\;</span></span></em></strong><strong><em><span style="font-family:arial\,sans-serif"><span style="font-size:28pt">&rdquo\;</span></span></em></strong><br />\n<strong><em><span style="font-family:arial\,sans-serif"><span style="font-size:23pt">Half-Day Intensive</span></span></em></strong></span><br />\n<span style="color:gray"><span style="font-family:arial\,sans-serif"><span style="font-size:17.0pt">In this workshop\, team </span></span></span><span style="color:gray"><span style="font-family:arial\,sans-serif"><span style="font-size:17.0pt">members from multiple</span></span></span><span style="color:gray"><span style="font-family:arial\,sans-serif"><span style="font-size:17.0pt"> organizations </span></span></span><span style="color:gray"><span style="font-family:arial\,sans-serif"><span style="font-size:17.0pt">learn how to boost</span></span></span> <span style="color:gray"><span style="font-family:arial\,sans-serif"><span style="font-size:17.0pt">communication skills </span></span></span><span style="color:gray"><span style="font-family:arial\,sans-serif"><span style="font-size:17.0pt">and presentation </span></span></span><span style="color:gray"><span style="font-family:arial\,sans-serif"><span style="font-size:17.0pt">confidence by </span></span></span><span style="color:gray"><span style="font-family:arial\,sans-serif"><span style="font-size:17.0pt">applying </span></span></span><span style="color:gray"><span style="font-family:arial\,sans-serif"><span style="font-size:17.0pt">improv-</span></span></span><span style="color:gray"><span style="font-family:arial\,sans-serif"><span style="font-size:17.0pt">based</span></span></span><span style="color:gray"><span style="font-family:arial\,sans-serif"><span style="font-size:17.0pt"> techniques.</span></span></span><br />\n<br />\n<span style="color:#2E3640"><span style="font-family:arial\,sans-serif"><span style="font-size:12.0pt">ENROLL NOW FOR THE </span></span></span><span style="color:#2E3640"><span style="font-family:arial\,sans-serif"><span style="font-size:12.0pt">THU.\, SEP. 14<sup>th</sup> 2017 </span></span></span><span style="color:#2E3640"><span style="font-family:arial\,sans-serif"><span style="font-size:12.0pt">1pm to 5pm WORKSHOP</span></span></span><br />\n<br />\n<strong><span style="color:#2E3640"><span style="font-family:arial\,sans-serif"><span style="font-size:9.0pt">WHY:</span></span></span></strong> <span style="color:#404040"><span style="font-family:arial\,sans-serif"><span style="font-size:9.0pt">Those who can quickly and creatively adapt enjoy a competitive advantage.</span></span></span><br />\n&nbsp\;<br />\n<strong><span style="color:#2E3640"><span style="font-family:arial\,sans-serif"><span style="font-size:9.0pt">WHO:</span></span></span></strong> <span style="color:#404040"><span style="font-family:arial\,sans-serif"><span style="font-size:9.0pt">This workshop is ideal for managers and individual contributors from all departments.</span></span></span><br />\n&nbsp\;<br />\n<strong><span style="color:#2E3640"><span style="font-family:arial\,sans-serif"><span style="font-size:9.0pt">WHERE:</span></span></span></strong> <span style="color:#404040"><span style="font-family:arial\,sans-serif"><span style="font-size:9.0pt">Back Bay Conference Center\, 3415 Michelson Drive\, Irvine\, California 92612</span></span></span><br />\n&nbsp\;<br />\n<strong><span style="color:#2E3640"><span style="font-family:arial\,sans-serif"><span style="font-size:9.0pt">HOW:</span></span></span></strong> <span style="color:#404040"><span style="font-family:arial\,sans-serif"><span style="font-size:9.0pt">Enrollment fee is $297 per person. Employees from the same organization receive a $50 discount.</span></span></span><br />\n&nbsp\;<br />\n<strong><span style="color:#2E3640"><span style="font-family:arial\,sans-serif"><span style="font-size:9.0pt">ENROLL: </span></span></span></strong><span style="color:#404040"><span style="font-family:arial\,sans-serif"><span style="font-size:9.0pt">Call </span></span></span><span style="color:#212120"><span style="font-family:times new roman\,serif"><span style="font-size:10.0pt"><a href="tel:888-827-2328"><span style="font-family:arial\,sans-serif"><span style="font-size:9.0pt">888-827-2328</span></span></a></span></span></span><span style="color:#404040"><span style="font-family:arial\,sans-serif"><span style="font-size:9.0pt">\, visit</span></span></span> <span style="color:#212120"><span style="font-family:times new roman\,serif"><span style="font-size:10.0pt"><a href="http://www.advantageimprov.com/yes-and-workshops.htm"><span style="font-family:arial\,sans-serif"><span style="font-size:9.0pt">www.AdvantageImprov.com</span></span></a></span></span></span><span style="color:#404040"><span style="font-family:arial\,sans-serif"><span style="font-size:9.0pt">\, or email </span></span></span><span style="color:#212120"><span style="font-family:times new roman\,serif"><span style="font-size:10.0pt"><a href="mailto:info@advantageimprov.com?subject=Next%20%22Yes\,%20And...%22%20workshop"><span style="font-family:arial\,sans-serif"><span style="font-size:9.0pt">info@AdvantageImprov.com</span></span></a></span></span></span><span style="color:#404040"><span style="font-family:arial\,sans-serif"><span style="font-size:9.0pt">.</span></span></span><br />\n<br />\n<span style="font-family:arial\,sans-serif"><span style="font-size:9.0pt">A growing number of forward thinking companies train their employees in the same mental agility skills that enable a team of improvisational performers to create an unscripted scene on stage. </span></span><br />\n&nbsp\;<br />\n<span style="font-family:arial\,sans-serif"><span style="font-size:9.0pt">Improv in business? Yes\, and it&rsquo\;s as beneficial as it is fun to learn. </span></span><br />\n&nbsp\;<br />\n<span style="font-family:arial\,sans-serif"><span style="font-size:9.0pt">Students gain insight and tools to improve active listening\, clear communicating\, confident presenting and creative collaborating.</span></span><br />\n&nbsp\;<br />\n<span style="font-family:arial\,sans-serif"><span style="font-size:9.0pt">Comments from recent Advantage Improv training events include: </span></span>\n<ul style="list-style-type:circle">\n	<li><span style="font-family:arial\,sans-serif"><span style="font-size:9.0pt">&ldquo\;<em>Loved it! Want more!</em>&rdquo\;</span></span></li>\n	<li><span style="font-family:arial\,sans-serif"><span style="font-size:9.0pt">&ldquo\;<em>It was a great experience.</em>&rdquo\;</span></span></li>\n	<li><span style="font-family:arial\,sans-serif"><span style="font-size:9.0pt">&ldquo\;<em>This was a master class in improv\, working together\, collaboration and trust. Fantastic!&rdquo\;</em></span></span></li>\n</ul>\n<br />\n&nbsp\;
LOCATION:Back Bay Conference Center\, 3415 Michelson Drive\, Irvine\, California 92612
UID:e.856.14859
SEQUENCE:3
DTSTAMP:20260421T100522Z
URL:https://app.greaterirvinechamber.com/events/details/yes-and-half-day-intensive-workshop-improvisation-skills-for-business-leaders-14859
END:VEVENT

END:VCALENDAR
