BEGIN:VCALENDAR
VERSION:2.0
PRODID:-//ChamberMaster//Event Calendar 2.0//EN
METHOD:PUBLISH
X-PUBLISHED-TTL:P3D
REFRESH-INTERVAL:P3D
CALSCALE:GREGORIAN
BEGIN:VEVENT
DTSTART:20180929T150000Z
DTEND:20180929T180000Z
X-MICROSOFT-CDO-ALLDAYEVENT:FALSE
SUMMARY:Walk to End Alzheimer's
DESCRIPTION:The Alzheimer's Association Walk to End Alzheimer's  is the world's largest event to raise awareness and funds for Alzheimer's care\, support and research. Held annually in more than 600 communities nationwide and 2 locations in our region\, this inspiring event calls on participants of all ages and abilities to reclaim the future for millions.
X-ALT-DESC;FMTTYPE=text/html:The Alzheimer&#39\;s Association Walk to End Alzheimer&#39\;s&reg\; is the world&#39\;s largest event to raise awareness and funds for Alzheimer&#39\;s care\, support and research. Held annually in more than 600 communities nationwide and 2 locations in our region\, this inspiring event calls on participants of all ages and abilities to reclaim the future for millions.
LOCATION:Orange County Great Park
UID:e.856.18824
SEQUENCE:3
DTSTAMP:20260421T113518Z
URL:https://app.greaterirvinechamber.com/events/details/walk-to-end-alzheimer-s-18824
END:VEVENT

END:VCALENDAR
