BEGIN:VCALENDAR
VERSION:2.0
PRODID:-//ChamberMaster//Event Calendar 2.0//EN
METHOD:PUBLISH
X-PUBLISHED-TTL:P3D
REFRESH-INTERVAL:P3D
CALSCALE:GREGORIAN
BEGIN:VEVENT
DTSTART:20171109T010000Z
DTEND:20171109T040000Z
X-MICROSOFT-CDO-ALLDAYEVENT:FALSE
SUMMARY:UCI New Vew Venture Competition Kickoff and Mixer
DESCRIPTION:The UCI New Venture Competition provides an immersive learning experience to students at UC Irvine. Students form teams\, which may include business professsionals\, faculty\, and/or staff\, and turn an idea into a business concept within a single academic year. Join us to learn more\, meet previous winners\, hear from students\, and meet our wonderful network of NVC mentors\, judges\, and other advisors that help us support our committment to UC Irvine and our students.
X-ALT-DESC;FMTTYPE=text/html:The UCI New Venture Competition provides an immersive learning experience to students at UC Irvine. Students form teams\, which may include business professsionals\, faculty\, and/or staff\, and turn an idea into a business concept within a single academic year. Join us to learn more\, meet previous winners\, hear from students\, and meet our wonderful network of NVC mentors\, judges\, and other advisors that help us support our committment to UC Irvine and our students.
LOCATION:UC Irvine Merage School of Business 4293 Pereira Drive (SB1) Irvine\, CA 92697
UID:e.856.16524
SEQUENCE:3
DTSTAMP:20260421T100604Z
URL:https://app.greaterirvinechamber.com/events/details/uci-new-vew-venture-competition-kickoff-and-mixer-16524
END:VEVENT

END:VCALENDAR
