BEGIN:VCALENDAR
VERSION:2.0
PRODID:-//ChamberMaster//Event Calendar 2.0//EN
METHOD:PUBLISH
X-PUBLISHED-TTL:P3D
REFRESH-INTERVAL:P3D
CALSCALE:GREGORIAN
BEGIN:VEVENT
DTSTART:20220722T000000Z
DTEND:20220722T023000Z
X-MICROSOFT-CDO-ALLDAYEVENT:FALSE
SUMMARY:Summer Fling Business Networking Mixer
DESCRIPTION:Promote Your Business by Networking! This event is open to all businesses - no membership is required - grow your business! Do you sell B2B or B2C? Our events bring together a variety of business professionals and community leaders that are interested in creating new relationships & opportunities. Are you seeking a new channel of business? We have tabletops\, vertical banner space as well as spaces large enough for demo vehicles. How about expanding your network & socializing with clients? We will have appetizers + cash bar + tons of space to network. Admission: $20 per person Cash Prizes + Free Parking + New People Any questions: Email: John@InsureYourSuccess.com
X-ALT-DESC;FMTTYPE=text/html:Promote Your Business by Networking! This event is open to all businesses - no membership is required - grow your business! Do you sell B2B or B2C? Our events bring together a variety of business professionals and community leaders that are interested in creating new relationships &amp\; opportunities. Are you seeking a new channel of business? We have tabletops\, vertical banner space as well as spaces large enough for demo vehicles. How about expanding your network &amp\; socializing with clients? We will have appetizers + cash bar + tons of space to network. Admission: $20 per person Cash Prizes + Free Parking + New People Any questions: Email: John@InsureYourSuccess.com
LOCATION:Highway 39 Events Center 1563 South State College Blvd. Anaheim\, CA 92806
UID:e.856.20885
SEQUENCE:3
DTSTAMP:20260419T175148Z
URL:https://app.greaterirvinechamber.com/events/details/summer-fling-business-networking-mixer-20885
END:VEVENT

END:VCALENDAR
