BEGIN:VCALENDAR
VERSION:2.0
PRODID:-//ChamberMaster//Event Calendar 2.0//EN
METHOD:PUBLISH
X-PUBLISHED-TTL:P3D
REFRESH-INTERVAL:P3D
CALSCALE:GREGORIAN
BEGIN:VEVENT
DTSTART:20180915T170000Z
DTEND:20180915T193000Z
X-MICROSOFT-CDO-ALLDAYEVENT:FALSE
SUMMARY:Orient Retreat Spa Grand Opening & Cocktail Party
DESCRIPTION:Established in 1988\, Orient Retreat Spa is going to launch the brand new flagship spa while celebrating a 30th anniversary.\n\n\n\nAfter 2 Years of preparation\, our relaxing and luxurious 8\,000 square feet space will provide you with another level of classic spa treatment.\n\n\n\nCome join us and celebrate the grand opening at Orient Retreat Spa
X-ALT-DESC;FMTTYPE=text/html:<h2 style="font-style:italic\; text-align:center"><span style="font-size:14px"><span style="font-family:tahoma"><big>Established in 1988\, Orient Retreat Spa is going to launch the brand new flagship spa while celebrating a 30th anniversary.<br />\n<br />\nAfter 2 Years of preparation\, our relaxing and luxurious 8\,000 square feet space will provide you with another level of classic spa treatment.<br />\n<br />\nCome join us and celebrate the grand opening at Orient Retreat Spa</big></span></span><br />\n&nbsp\;</h2>\n
LOCATION:4970 Irvine Blvd #101\, Irvine\, CA 92620
UID:e.856.18816
SEQUENCE:3
DTSTAMP:20260421T113818Z
URL:https://app.greaterirvinechamber.com/events/details/orient-retreat-spa-grand-opening-cocktail-party-18816
END:VEVENT

END:VCALENDAR
