BEGIN:VCALENDAR
VERSION:2.0
PRODID:-//ChamberMaster//Event Calendar 2.0//EN
METHOD:PUBLISH
X-PUBLISHED-TTL:P3D
REFRESH-INTERVAL:P3D
CALSCALE:GREGORIAN
BEGIN:VEVENT
DTSTART:20221006T150000Z
DTEND:20221007T010000Z
X-MICROSOFT-CDO-ALLDAYEVENT:FALSE
SUMMARY:OCG Annual Summit
DESCRIPTION:We hope your company can join this year's OC Grantmakers Summit\, which will take place Thursday\, October 6 at Orange Coast College in Costa Mesa. OC Grantmakers\, our region's only philanthropy-serving organization\, supports education and learning opportunities for Orange County's social sector. The Annual Summit provides a space for community leaders to connect with peers\, build new relationships\, and learn how to transform shifting trends into long-lasting solutions. The Summit is a unique opportunity for professional development\, with forward-thinking content and robust exchange forums. It's an opportunity for Orange County's changemakers to come together with like-minded colleagues for energizing and thought-provoking conversations -- and then leave with new ideas for their own purpose-driven work. Keynote speakers include Orange County's first poet laureate\, Natalie Graham\; tech and human rights expert Aarathi Krishnan\; and Daily Beast columnist\, public speaker\, and recovering attorney Wajahat Ali. Register today at https://ocgrantmakers.org/oc-grantmakers-summit-2022/
X-ALT-DESC;FMTTYPE=text/html:We hope your company can join this year&#39\;s OC Grantmakers Summit\, which will take place Thursday\, October 6 at Orange Coast College in Costa Mesa. OC Grantmakers\, our region&#39\;s only philanthropy-serving organization\, supports education and learning opportunities for Orange County&#39\;s social sector. The Annual Summit provides a space for community leaders to connect with peers\, build new relationships\, and learn how to transform shifting trends into long-lasting solutions. The Summit is a unique opportunity for professional development\, with forward-thinking content and robust exchange forums. It&#39\;s an opportunity for Orange County&#39\;s changemakers to come together with like-minded colleagues for energizing and thought-provoking conversations -- and then leave with new ideas for their own purpose-driven work. Keynote speakers include Orange County&#39\;s first poet laureate\, Natalie Graham\; tech and human rights expert Aarathi Krishnan\; and Daily Beast columnist\, public speaker\, and recovering attorney Wajahat Ali. Register today at https://ocgrantmakers.org/oc-grantmakers-summit-2022/
LOCATION:Orange Coast College
UID:e.856.20894
SEQUENCE:3
DTSTAMP:20260421T083105Z
URL:https://app.greaterirvinechamber.com/events/details/ocg-annual-summit-20894
END:VEVENT

END:VCALENDAR
