BEGIN:VCALENDAR
VERSION:2.0
PRODID:-//ChamberMaster//Event Calendar 2.0//EN
METHOD:PUBLISH
X-PUBLISHED-TTL:P3D
REFRESH-INTERVAL:P3D
CALSCALE:GREGORIAN
BEGIN:VEVENT
DTSTART:20221012T000000Z
DTEND:20221012T023000Z
X-MICROSOFT-CDO-ALLDAYEVENT:FALSE
SUMMARY:OC Business Networking Expo
DESCRIPTION:Orange County Business Networking Expo is hosted by a group of business leaders from Orange County for the SoCal Business Community. The event will be held at Highway 39 Event Center. Attendees will be surrounded by American Muscle Cars where they can visit with Exhibitors\, enjoy tasty food & drink\, and NETWORK with B2B business owners\, sales & business leaders. Are you ready to build NEW important business relationships? Business Owners interested in connecting with people that can help them save money\, be more efficient\, and grow your business\; this event is a must-attend event for you. Top Features: Exhibitors are Industry Experts Attendees are Business Owners\, Sales & Business Leaders with Networking Experience Our invitation list covers the following categories: CPAs\, Attorneys\, Banks\, Merchant Card Services\, P&C Insurance\, Life Insurance\, Manufacturers\, Service Companies\, Restaurants\, etc. The time is now to Market your Business!!!
X-ALT-DESC;FMTTYPE=text/html:Orange County Business Networking Expo is hosted by a group of business leaders from Orange County for the SoCal Business Community. The event will be held at Highway 39 Event Center. Attendees will be surrounded by American Muscle Cars where they can visit with Exhibitors\, enjoy tasty food &amp\; drink\, and NETWORK with B2B business owners\, sales &amp\; business leaders. Are you ready to build NEW important business relationships? Business Owners interested in connecting with people that can help them save money\, be more efficient\, and grow your business\; this event is a must-attend event for you. Top Features: Exhibitors are Industry Experts Attendees are Business Owners\, Sales &amp\; Business Leaders with Networking Experience Our invitation list covers the following categories: CPAs\, Attorneys\, Banks\, Merchant Card Services\, P&amp\;C Insurance\, Life Insurance\, Manufacturers\, Service Companies\, Restaurants\, etc. The time is now to Market your Business!!!
LOCATION:Highway 39 Event Center\, 1563 South State College Blvd. Anaheim\, CA 92806
UID:e.856.20920
SEQUENCE:3
DTSTAMP:20260421T083310Z
URL:https://app.greaterirvinechamber.com/events/details/oc-business-networking-expo-20920
END:VEVENT

END:VCALENDAR
