BEGIN:VCALENDAR
VERSION:2.0
PRODID:-//ChamberMaster//Event Calendar 2.0//EN
METHOD:PUBLISH
X-PUBLISHED-TTL:P3D
REFRESH-INTERVAL:P3D
CALSCALE:GREGORIAN
BEGIN:VEVENT
DTSTART:20221026T224500Z
DTEND:20221026T231500Z
X-MICROSOFT-CDO-ALLDAYEVENT:FALSE
SUMMARY:New Member Orientation
DESCRIPTION:Understand the benefits of your Greater Irvine Chamber membership better by attending this New Member Orientation\, followed by unlimited networking opportunities at the Evening Business Exchange mixer. \n\n\n\nAttendees will have an opportunity to ask questions about their membership benefits\, meet your Chamber liaisons as well as network with other members.  If you plan to stay for the Evening Business Exchange mixer\, please complete your registration for that event here.
X-ALT-DESC;FMTTYPE=text/html:<div style="text-align: center\;"><br />\n<strong>Understand the benefits of your Greater Irvine Chamber membership better by attending this New Member Orientation\, followed by unlimited networking opportunities&nbsp\;at the Evening Business Exchange mixer.</strong>&nbsp\;<br />\n<br />\nAttendees will have an opportunity to ask questions about their membership benefits\, meet your Chamber liaisons as well as network with other members.&nbsp\; If you plan to stay for the Evening Business Exchange mixer\, please complete your registration for that event <a href="https://business.greaterirvinechamber.com/events/details/evening-business-exchange-mixer-20896" target="_blank">here.</a></div>\n\n<div style="text-align: center\;">&nbsp\;</div>\n
LOCATION:LOCATION CHANGE: Tim Ho Wan (Diamond Jamboree Shopping Center) 2700 Alton Parkway\, Suite 127 Irvine 92606
UID:e.856.20911
SEQUENCE:3
DTSTAMP:20260421T083257Z
URL:https://app.greaterirvinechamber.com/events/details/new-member-orientation-20911
END:VEVENT

END:VCALENDAR
