BEGIN:VCALENDAR
VERSION:2.0
PRODID:-//ChamberMaster//Event Calendar 2.0//EN
METHOD:PUBLISH
X-PUBLISHED-TTL:P3D
REFRESH-INTERVAL:P3D
CALSCALE:GREGORIAN
BEGIN:VEVENT
DTSTART:20221022T150000Z
DTEND:20221022T170000Z
X-MICROSOFT-CDO-ALLDAYEVENT:FALSE
SUMMARY:Meditate at the Beach
DESCRIPTION:This is a health event that includes meditation\, yoga stretches\, Q&A session and more. During this free event you can engage in nutrition talks led by Dr. Melissa Mondala & Dr. Micah Yu and participate in a guided meditation by Lisa Moore. Other special guest will be in attendance as well!
X-ALT-DESC;FMTTYPE=text/html:<br />\n<br />\nThis is a health event that includes meditation\, yoga stretches\, Q&amp\;A session and more. During this free event you can engage in nutrition talks led by Dr. Melissa Mondala &amp\; Dr. Micah Yu and participate in a guided meditation by Lisa Moore. Other special guest will be in attendance as well!
LOCATION:Corona del Mar State Beach in Newport Beach. Address: 3100 Ocean Blvd Newport Beach\, CA 92625
UID:e.856.20932
SEQUENCE:3
DTSTAMP:20260421T083359Z
URL:https://app.greaterirvinechamber.com/events/details/meditate-at-the-beach-20932
END:VEVENT

END:VCALENDAR
