BEGIN:VCALENDAR
VERSION:2.0
PRODID:-//ChamberMaster//Event Calendar 2.0//EN
METHOD:PUBLISH
X-PUBLISHED-TTL:P3D
REFRESH-INTERVAL:P3D
CALSCALE:GREGORIAN
BEGIN:VEVENT
DTSTART:20171028T003000Z
DTEND:20171028T053000Z
X-MICROSOFT-CDO-ALLDAYEVENT:FALSE
SUMMARY:Make-A-Wish Evening of Wishes Gala
DESCRIPTION:Enjoy a night of dinner\, dancing\, live and silent auctions and a few surprises all to benefit children with life-threatening medical conditions. The evening will feature special guest MC Ellen K of KOST 103.5 FM and honor the hosts of the daytime talk show\, The Real. All proceeds benefit Make-A-Wish Orange County and the Inland Empire.
X-ALT-DESC;FMTTYPE=text/html:Enjoy a night of dinner\, dancing\, live and silent auctions and a few surprises all to benefit children with life-threatening medical conditions. The evening will feature special guest MC Ellen K of KOST 103.5 FM and honor the hosts of the daytime talk show\, The Real. All proceeds benefit Make-A-Wish Orange County and the Inland Empire.
LOCATION:Waterfront Beach Resort\, 21100 Pacific Coast Hwy\, Huntington Beach\, CA 92648
UID:e.856.16490
SEQUENCE:3
DTSTAMP:20260421T113720Z
URL:https://app.greaterirvinechamber.com/events/details/make-a-wish-evening-of-wishes-gala-16490
END:VEVENT

END:VCALENDAR
