BEGIN:VCALENDAR
VERSION:2.0
PRODID:-//ChamberMaster//Event Calendar 2.0//EN
METHOD:PUBLISH
X-PUBLISHED-TTL:P3D
REFRESH-INTERVAL:P3D
CALSCALE:GREGORIAN
BEGIN:VEVENT
DTSTART:20220731T013000Z
DTEND:20220731T043000Z
X-MICROSOFT-CDO-ALLDAYEVENT:FALSE
SUMMARY:Kung Fu Panda Party!
DESCRIPTION:Easterseals is partnering with DreamWorks Animation to bring the new Netflix series Kung Fu Panda: The Dragon Knight to the big screen at the Irvine Autism Therapy and Disability Service Center.\n\nGet your picture taken with Po himself\, enjoy games\, crafts and meet our Autism Therapy Robots\, Hans and Franz! \n\nTickets are $15\n\nKids 5 and under are free   includes custom treat boxes provided by Edwards Lifesciences with homemade Irish Flapjack Oat Bars with Chocolate!\n\n\n\nEvent Schedule: \n\n6:45pm to 7:45pm   Special appearance by Po and ESSC Robots along with games and fun.\n\n7:45pm   Kung Fu Panda: The Dragon Knight watch party begins (first three episodes) \n\nAnd don't miss the raffle with exciting DreamWorks baskets\, a beach cruiser bicycle and an electric scooter! Tickets will be available for purchase for just $5.00 and all funds raised will go towards autism services. \nPurchase tickets at: http://socal.easterseals.com/esscmovienight
X-ALT-DESC;FMTTYPE=text/html:<div>\n<p>Easterseals is partnering with DreamWorks Animation to bring the new Netflix series&nbsp\;<strong><em>Kung Fu Panda: The Dragon Knight&nbsp\;</em></strong>to the big screen at the Irvine Autism Therapy and Disability Service Center.</p>\n\n<p>Get your picture taken with Po himself\, enjoy games\, crafts and meet our Autism Therapy Robots\,&nbsp\;Hans and Franz!&nbsp\;</p>\n\n<p><strong>Tickets are $15</strong></p>\n\n<p>Kids 5 and under are free &ndash\; includes custom treat boxes provided by&nbsp\;Edwards Lifesciences&hellip\;with homemade Irish Flapjack Oat Bars with Chocolate!</p>\n</div>\n\n<div>\n<p><strong>Event Schedule:&nbsp\;</strong></p>\n\n<p>6:45pm to 7:45pm &ndash\; Special appearance by Po and ESSC Robots along with games and fun.</p>\n\n<p>7:45pm &ndash\;&nbsp\;Kung Fu Panda: The Dragon Knight&nbsp\;watch party begins (first three episodes)&nbsp\;</p>\n\n<p>And don&#39\;t miss the raffle with exciting DreamWorks baskets\, a beach cruiser bicycle and an electric scooter! Tickets will be available for purchase for just $5.00 and all funds raised will go towards autism services.&nbsp\;</p>\nPurchase tickets at: <a href="http://socal.easterseals.com/esscmovienight">http://socal.easterseals.com/esscmovienight</a></div>\n
LOCATION:Easterseals Irvine Autism Therapy and Disability Services Center\, 1063 McGaw Ave\, Suite 100\, Irvine\, CA
UID:e.856.20889
SEQUENCE:3
DTSTAMP:20260419T174817Z
URL:https://app.greaterirvinechamber.com/events/details/kung-fu-panda-party-20889
END:VEVENT

END:VCALENDAR
