BEGIN:VCALENDAR
VERSION:2.0
PRODID:-//ChamberMaster//Event Calendar 2.0//EN
METHOD:PUBLISH
X-PUBLISHED-TTL:P3D
REFRESH-INTERVAL:P3D
CALSCALE:GREGORIAN
BEGIN:VEVENT
DTSTART:20171203T210000Z
DTEND:20171204T000000Z
X-MICROSOFT-CDO-ALLDAYEVENT:FALSE
SUMMARY:Juan Diego and the Beautiful Lady
DESCRIPTION:An Outdoor Play\, a procession with the image of Our Lady of Guadalupe and a celebration. Free event for the entire family!
X-ALT-DESC;FMTTYPE=text/html:An Outdoor Play\, a procession with the image of Our Lady of Guadalupe and a celebration. Free event for the entire family!
LOCATION:Mission Hills at Rose Hills Memorial Park\, 3888 Workman Mill Rd. Whittier\, CA 90601
UID:e.856.16526
SEQUENCE:3
DTSTAMP:20260421T083919Z
URL:https://app.greaterirvinechamber.com/events/details/juan-diego-and-the-beautiful-lady-16526
END:VEVENT

END:VCALENDAR
