BEGIN:VCALENDAR
VERSION:2.0
PRODID:-//ChamberMaster//Event Calendar 2.0//EN
METHOD:PUBLISH
X-PUBLISHED-TTL:P3D
REFRESH-INTERVAL:P3D
CALSCALE:GREGORIAN
BEGIN:VEVENT
DTSTART:20221008T170000Z
DTEND:20221009T010000Z
X-MICROSOFT-CDO-ALLDAYEVENT:FALSE
SUMMARY:Irvine Global Village Festival
DESCRIPTION:Make plans to travel the world at the City of Irvine's annual Irvine Global Village Festival on Saturday\, October 8\, from 10 a.m.-6 p.m. at the Orange County Great Park. Recognized as one of the best cultural festivals in Orange County\, this free\, daylong event features international cuisine\, live entertainment\, a kids village with crafts and activities\, cultural and religious exhibits and an international marketplace.
X-ALT-DESC;FMTTYPE=text/html:<p class="MsoNormal" style="margin: 0in 0in 0pt\;"><span style="color: black\; font-family: &quot\;Arial&quot\;\,&quot\;sans-serif&quot\;\; font-size: 11pt\;">Make plans to travel the world at the City of Irvine&rsquo\;s annual Irvine Global Village Festival on Saturday\, October 8\, from 10 a.m.-6 p.m. at the Orange County Great Park. Recognized as one of the best cultural festivals in Orange County\, this free\, daylong event features international cuisine\, live entertainment\, a kids village with crafts and activities\, cultural and religious exhibits and an international marketplace.</span></p>\n
LOCATION:Orange County Great Park Irvine
UID:e.856.20903
SEQUENCE:3
DTSTAMP:20260421T083939Z
URL:https://app.greaterirvinechamber.com/events/details/irvine-global-village-festival-20903
END:VEVENT

END:VCALENDAR
