BEGIN:VCALENDAR
VERSION:2.0
PRODID:-//ChamberMaster//Event Calendar 2.0//EN
METHOD:PUBLISH
X-PUBLISHED-TTL:P3D
REFRESH-INTERVAL:P3D
CALSCALE:GREGORIAN
BEGIN:VEVENT
DTSTART:20171215T170000Z
DTEND:20171216T003000Z
X-MICROSOFT-CDO-ALLDAYEVENT:FALSE
SUMMARY:Import Compliance Training Program
DESCRIPTION:THIS IMPORT/EXPORT COMPLIANCE SERIES HAS BEEN CANCELLED.\n\nPLEASE CONTACT THE FOLLOWING FOR MORE INFORMATION:\n\nGlobal Trade & Logistics   Orange County\n\nCenter for International Trade Development\n\nRancho Santiago Community College District\n\n2323 North Broadway\, Suite #328\n\nSanta Ana\, CA 92706\n\nPhone: (714)564-5413\n\nE-mail: Landa_Alejandra@rsccd.edu
X-ALT-DESC;FMTTYPE=text/html:<span style="font-size:20px\;"><span style="color: rgb(255\, 0\, 0)\;"><strong>THIS IMPORT/EXPORT COMPLIANCE SERIES HAS BEEN CANCELLED.<br />\nPLEASE CONTACT THE FOLLOWING FOR MORE INFORMATION:</strong></span></span><br />\n<span style="font-family:century gothic\,sans-serif\;">Global Trade &amp\; Logistics &ndash\; Orange County</span><br />\n<span style="font-family:century gothic\,sans-serif\;">Center for International Trade Development</span><br />\n<span style="font-family:century gothic\,sans-serif\;">Rancho Santiago Community College District</span><br />\n<span style="font-family:century gothic\,sans-serif\;">2323 North Broadway\, Suite #328</span><br />\n<span style="font-family:century gothic\,sans-serif\;">Santa Ana\, CA 92706</span><br />\n<span style="font-family:century gothic\,sans-serif\;">Phone: (714)564-5413</span><br />\n<span style="font-family:century gothic\,sans-serif\;"><span style="font-size:11.0pt\;">E-mail: </span></span><span style="font-family:calibri\,sans-serif\;"><span style="font-size:11.0pt\;"><a href="mailto:Landa_Alejandra@rsccd.edu"><span style="color:blue\;"><span style="font-family:century gothic\,sans-serif\;">Landa_Alejandra@rsccd.edu</span></span></a></span></span>
LOCATION:Rancho Santiago CCD 2323 N. Broadway #107\, Santa Ana\, CA 92706
UID:e.856.15472
SEQUENCE:3
DTSTAMP:20260421T082958Z
URL:https://app.greaterirvinechamber.com/events/details/import-compliance-training-program-12-15-2017-15472
END:VEVENT

END:VCALENDAR
