BEGIN:VCALENDAR
VERSION:2.0
PRODID:-//ChamberMaster//Event Calendar 2.0//EN
METHOD:PUBLISH
X-PUBLISHED-TTL:P3D
REFRESH-INTERVAL:P3D
CALSCALE:GREGORIAN
BEGIN:VEVENT
DTSTART;VALUE=DATE:20221030
DTEND;VALUE=DATE:20221101
TRANSP:TRANSPARENT
X-MICROSOFT-CDO-ALLDAYEVENT:TRUE
SUMMARY:Holiday Toy Drive to Support Marine Families
DESCRIPTION:Support Marine Families this Holiday Season with Toy Drive\n\nDrop off donations October 31 December 14 at three locations to benefit children of Irvine's adopted 2/11 Marine Battalion.\n\nIRVINE\, Calif. (October 26\, 2022): Join the City of Irvine and the Irvine 2/11 Marine Adoption Committee in brightening the season for military families. The annual holiday Toy Drive benefits families of Irvine's adopted 2/11 Marine Battalion. Help bring joy to these families during the holidays by donating a new\, unwrapped gift suitable for infants or children ages 12 and younger.\n\nDonations can be dropped off October 31 December 14 during the following hours at the locations below:\n\n\n	Irvine City Hall and Irvine Police Department\, 1 Civic Center Plaza: 8 a.m. 5 p.m. Monday Friday\n	Great Park Visitors Center\, 8000 Great Park Blvd.\, Irvine: 10 a.m. 8 p.m.\, Daily.\n\n\nDonations can also be dropped off during two Drive-Thru Drop-Off events at Irvine Civic Center\, located at 1 Civic Center Plaza\, on the following days:\n\n\n	Sunday\, December 4\, and Saturday\, December 10\, from 9 a.m. to noon.\n	\n		Drive to Parking Lot 3 near Deanna Manning Stadium.\n		Please keep all donations in the trunk or backseat of your car. Once you arrive\, remain in your vehicle and a volunteer will retrieve the toys for you.
X-ALT-DESC;FMTTYPE=text/html:<p align="center" style="margin-top: 0px\; margin-bottom: 0px\; color: rgb(36\, 36\, 36)\; font-family: &quot\;Segoe UI&quot\;\, &quot\;Segoe UI Web (West European)&quot\;\, &quot\;Segoe UI&quot\;\, -apple-system\, BlinkMacSystemFont\, Roboto\, &quot\;Helvetica Neue&quot\;\, sans-serif\; font-size: 15px\; background-color: rgb(255\, 255\, 255)\;"><strong>Support Marine Families this Holiday Season with Toy Drive</strong><br aria-hidden="true" />\n<em>Drop off donations October 31&ndash\;December 14 at three locations to benefit children of Irvine&rsquo\;s adopted 2/11 Marine Battalion.</em></p>\n\n<p style="margin-top: 0px\; margin-bottom: 0px\; color: rgb(36\, 36\, 36)\; font-family: &quot\;Segoe UI&quot\;\, &quot\;Segoe UI Web (West European)&quot\;\, &quot\;Segoe UI&quot\;\, -apple-system\, BlinkMacSystemFont\, Roboto\, &quot\;Helvetica Neue&quot\;\, sans-serif\; font-size: 15px\; background-color: rgb(255\, 255\, 255)\;"><strong>IRVINE\, Calif. (October 26\, 2022):</strong>&nbsp\;Join the City of Irvine and the Irvine 2/11 Marine Adoption Committee in brightening the season for military families. The annual holiday Toy Drive benefits families of Irvine&rsquo\;s adopted 2/11 Marine Battalion. Help bring joy to these families during the holidays by donating a new\, unwrapped gift suitable for infants or children ages 12 and younger.</p>\n\n<p style="margin-top: 0px\; margin-bottom: 0px\; color: rgb(36\, 36\, 36)\; font-family: &quot\;Segoe UI&quot\;\, &quot\;Segoe UI Web (West European)&quot\;\, &quot\;Segoe UI&quot\;\, -apple-system\, BlinkMacSystemFont\, Roboto\, &quot\;Helvetica Neue&quot\;\, sans-serif\; font-size: 15px\; background-color: rgb(255\, 255\, 255)\;">Donations can be dropped off October 31&ndash\;December 14 during the following hours at the locations below:</p>\n\n<ul style="color: rgb(36\, 36\, 36)\; font-family: &quot\;Segoe UI&quot\;\, &quot\;Segoe UI Web (West European)&quot\;\, &quot\;Segoe UI&quot\;\, -apple-system\, BlinkMacSystemFont\, Roboto\, &quot\;Helvetica Neue&quot\;\, sans-serif\; font-size: 15px\; background-color: rgb(255\, 255\, 255)\;">\n	<li><strong>Irvine City Hall and Irvine Police Department\,</strong>&nbsp\;1 Civic Center Plaza: 8 a.m.&ndash\;5 p.m. Monday&ndash\;Friday</li>\n	<li><strong>Great Park Visitors Center\,</strong>&nbsp\;8000 Great Park Blvd.\, Irvine: 10 a.m.&ndash\;8 p.m.\, Daily.</li>\n</ul>\n\n<p style="margin-top: 0px\; margin-bottom: 0px\; color: rgb(36\, 36\, 36)\; font-family: &quot\;Segoe UI&quot\;\, &quot\;Segoe UI Web (West European)&quot\;\, &quot\;Segoe UI&quot\;\, -apple-system\, BlinkMacSystemFont\, Roboto\, &quot\;Helvetica Neue&quot\;\, sans-serif\; font-size: 15px\; background-color: rgb(255\, 255\, 255)\;">Donations can also be dropped off during two Drive-Thru Drop-Off events at Irvine Civic Center\, located at 1 Civic Center Plaza\, on the following days:</p>\n\n<ul style="color: rgb(36\, 36\, 36)\; font-family: &quot\;Segoe UI&quot\;\, &quot\;Segoe UI Web (West European)&quot\;\, &quot\;Segoe UI&quot\;\, -apple-system\, BlinkMacSystemFont\, Roboto\, &quot\;Helvetica Neue&quot\;\, sans-serif\; font-size: 15px\; background-color: rgb(255\, 255\, 255)\;">\n	<li>Sunday\, December 4\, and Saturday\, December 10\, from 9 a.m. to noon.\n	<ul>\n		<li>Drive to Parking Lot 3 near Deanna Manning Stadium.</li>\n		<li>Please keep all donations in the trunk or backseat of your car. Once you arrive\, remain in your vehicle and a volunteer will retrieve the toys for you.</li>\n	</ul>\n	</li>\n</ul>\n
LOCATION:Irvine City Hall and Irvine Police Department\, 1 Civic Center Plaza Great Park Visitors Center\, 8000 Great Park Blvd.\, Irvine
UID:e.856.21204
SEQUENCE:3
DTSTAMP:20260421T084059Z
URL:https://app.greaterirvinechamber.com/events/details/holiday-toy-drive-to-support-marine-families-21204
END:VEVENT

END:VCALENDAR
