BEGIN:VCALENDAR
VERSION:2.0
PRODID:-//ChamberMaster//Event Calendar 2.0//EN
METHOD:PUBLISH
X-PUBLISHED-TTL:P3D
REFRESH-INTERVAL:P3D
CALSCALE:GREGORIAN
BEGIN:VEVENT
DTSTART:20180915T150000Z
DTEND:20180915T190000Z
X-MICROSOFT-CDO-ALLDAYEVENT:FALSE
SUMMARY:Hoag Flu Shot Clinic & Physician-Led Presentations at Hoag Health Center Irvine
DESCRIPTION:With cold and flu season around the corner\, it's important to make health a top priority. The community is invited to attend a free flu shot clinic* at Hoag Health Center Irvine   Sand Canyon on Saturday\, September 15 from 8 a.m. to 12 p.m. This year's event will feature free health screenings and informative physician-led presentations highlighting a variety of health and wellness topics. The schedule includes:   9 a.m. Breast Cancer Risk Factors Presented by: Heather Macdonald\, M.D.\, F.A.C.O.G.   9:30 a.m. The Latest Advancements in Diabetes Management Presented by: David T. Ahn\, M.D.   10 a.m. Treating Structural Heart Disease Presented by: Jorge Castellanos\, M.D.\, F.A.C.C.   10:30 a.m. Reversible Causes of Memory Loss Presented by: Greg Whitman\, M.D.   11 a.m. Innovative Cancer Clinical Trials at Hoag Presented by: Jacob Thomas\, M.D.   11:30 a.m. Robotic Surgery: Future Applications for Gynecologic Care Presented by: Alberto Mendivil\, M.D.\, F.A.C.O.G.\, F.A.C.S.
X-ALT-DESC;FMTTYPE=text/html:With cold and flu season around the corner\, it&rsquo\;s important to make health a top priority. The community is invited to attend a free flu shot clinic* at Hoag Health Center Irvine &ndash\; Sand Canyon on Saturday\, September 15 from 8 a.m. to 12 p.m. This year&rsquo\;s event will feature free health screenings and informative physician-led presentations highlighting a variety of health and wellness topics. The schedule includes: &middot\; 9 a.m. Breast Cancer Risk Factors Presented by: Heather Macdonald\, M.D.\, F.A.C.O.G. &middot\; 9:30 a.m. The Latest Advancements in Diabetes Management Presented by: David T. Ahn\, M.D. &middot\; 10 a.m. Treating Structural Heart Disease Presented by: Jorge Castellanos\, M.D.\, F.A.C.C. &middot\; 10:30 a.m. Reversible Causes of Memory Loss Presented by: Greg Whitman\, M.D. &middot\; 11 a.m. Innovative Cancer Clinical Trials at Hoag Presented by: Jacob Thomas\, M.D. &middot\; 11:30 a.m. Robotic Surgery: Future Applications for Gynecologic Care Presented by: Alberto Mendivil\, M.D.\, F.A.C.O.G.\, F.A.C.S.
LOCATION:Hoag Health Center Irvine\, 16105 Sand Canyon Avenue
UID:e.856.18828
SEQUENCE:3
DTSTAMP:20260421T113901Z
URL:https://app.greaterirvinechamber.com/events/details/hoag-flu-shot-clinic-physician-led-presentations-at-hoag-health-center-irvine-18828
END:VEVENT

END:VCALENDAR
