BEGIN:VCALENDAR
VERSION:2.0
PRODID:-//ChamberMaster//Event Calendar 2.0//EN
METHOD:PUBLISH
X-PUBLISHED-TTL:P3D
REFRESH-INTERVAL:P3D
CALSCALE:GREGORIAN
BEGIN:VEVENT
DTSTART:20220723T160000Z
DTEND:20220724T000000Z
X-MICROSOFT-CDO-ALLDAYEVENT:FALSE
SUMMARY:High-Performance Business Skills Certification Program
DESCRIPTION:Are you looking to advance your career and give yourself a competitive edge? Join the High-Performance Business Skills Certification Program! \n\nEconomists and research scientists agree that businesses are having an extraordinarily difficult time finding the right people to fill their key positions in today's rapidly changing job market. \n\nEmerging challenges call for innovative solutions. Which is why the team at Digitized Learning has partnered with Virscend University to offer a certificate program for High-Performance Business Skills. We've partnered together to give the local community a competitive advantage in today's employment market. \n\nThe High-Performance Business Skills program is designed for individuals who are seeking to develop\, acquire and gain the necessary skills to actively contribute and participate in most High-Performance Business Teams.This program is interactive\, experiential\, and exercise-driven to maximize knowledge and wisdom to re-enforce core skills.\n\nBy investing two weekends into your professional development you will:\n\n-Learn how to develop strong\, influential relationships through Emotional Intelligence \n\n-Learn to Lead and Influence a group of people to achieve common goals\n\n-Improve your ability to Communicate Effectively in today's diverse workforce\n\n-Learn to promote health and well being in your environment\n\n\nIncluded: Lunch\, class materials\, & AVA (Activity Vector Analysis) Personality Assessment valued at $497!
X-ALT-DESC;FMTTYPE=text/html:<p><span style="background-color:transparent\; color:rgb(0\, 0\, 0)\; font-family:arial\; font-size:11pt">Are you looking to advance your career and give yourself a competitive edge? Join the High-Performance Business Skills Certification Program!&nbsp\;</span></p>\n\n<p><span style="background-color:transparent\; color:rgb(0\, 0\, 0)\; font-family:arial\; font-size:11pt">Economists and research scientists agree that businesses are having an extraordinarily difficult time finding the right people to fill their key positions in today&rsquo\;s rapidly changing job market.&nbsp\;</span></p>\n\n<p><span style="background-color:transparent\; color:rgb(0\, 0\, 0)\; font-family:arial\; font-size:11pt">Emerging challenges call for innovative solutions. Which is why the team at Digitized Learning has partnered with Virscend University to offer a certificate program for </span><strong>High-Performance Business Skills</strong><span style="background-color:transparent\; color:rgb(0\, 0\, 0)\; font-family:arial\; font-size:11pt">. We&rsquo\;ve partnered together to give the local community a competitive advantage in today&rsquo\;s employment market.&nbsp\;</span></p>\n\n<p><span style="background-color:transparent\; color:rgb(0\, 0\, 0)\; font-family:arial\; font-size:11pt">The High-Performance Business Skills program is designed for individuals who are seeking to develop\, acquire and gain the necessary skills to actively contribute and participate in most High-Performance Business Teams.This program is interactive\, experiential\, and exercise-driven to maximize knowledge and wisdom to re-enforce core skills.</span></p>\n\n<p><span style="background-color:transparent\; color:rgb(0\, 0\, 0)\; font-family:arial\; font-size:11pt">By investing two weekends into your professional development you will:</span></p>\n\n<p><span style="background-color:transparent\; color:rgb(0\, 0\, 0)\; font-family:arial\; font-size:11pt">-Learn how to develop strong\, influential relationships through </span><span style="background-color:transparent\; color:rgb(0\, 0\, 0)\; font-family:arial\; font-size:11pt">Emotional Intelligence</span><span style="background-color:transparent\; color:rgb(0\, 0\, 0)\; font-family:arial\; font-size:11pt">&nbsp\;</span></p>\n\n<p><span style="background-color:transparent\; color:rgb(0\, 0\, 0)\; font-family:arial\; font-size:11pt">-Learn to Lead and Influence a group of people to achieve common goals</span></p>\n\n<p><span style="background-color:transparent\; color:rgb(0\, 0\, 0)\; font-family:arial\; font-size:11pt">-Improve your ability to </span><span style="background-color:transparent\; color:rgb(0\, 0\, 0)\; font-family:arial\; font-size:11pt">Communicate Effectively</span><span style="background-color:transparent\; color:rgb(0\, 0\, 0)\; font-family:arial\; font-size:11pt"> in today&rsquo\;s diverse workforce</span></p>\n\n<p><span style="background-color:transparent\; color:rgb(0\, 0\, 0)\; font-family:arial\; font-size:11pt">-Learn to promote health and well being in your environment</span></p>\n<br />\n<strong>Included: </strong><span style="background-color:transparent\; color:rgb(0\, 0\, 0)\; font-family:arial\; font-size:11pt">Lunch\, class materials\, &amp\; AVA (Activity Vector Analysis) Personality Assessment </span><em>valued</em><span style="background-color:transparent\; color:rgb(0\, 0\, 0)\; font-family:arial\; font-size:11pt"> at $497!</span>
LOCATION:Virscend University Campus: 16490 Bake Pkwy.\, Ste. 100 Irvine\, CA 92618
UID:e.856.20874
SEQUENCE:3
DTSTAMP:20260419T174543Z
URL:https://app.greaterirvinechamber.com/events/details/high-performance-business-skills-certification-program-20874
END:VEVENT

END:VCALENDAR
