BEGIN:VCALENDAR
VERSION:2.0
PRODID:-//ChamberMaster//Event Calendar 2.0//EN
METHOD:PUBLISH
X-PUBLISHED-TTL:P3D
REFRESH-INTERVAL:P3D
CALSCALE:GREGORIAN
BEGIN:VEVENT
DTSTART:20180929T160000Z
DTEND:20180929T200000Z
X-MICROSOFT-CDO-ALLDAYEVENT:FALSE
SUMMARY:Greater Irvine Career Fair
DESCRIPTION:Are you struggling to fill positions in this tight labor marketing? Western Growers invites all Greater Irvine Chamber members to join our upcoming career fair. There's no cost to participate. We know the more participants\, the better the event.
X-ALT-DESC;FMTTYPE=text/html:Are you struggling to fill positions in this tight labor marketing? Western Growers invites all Greater Irvine Chamber members to join our upcoming career fair. There&#39\;s no cost to participate. We know the more participants\, the better the event.
LOCATION:Western Growers office 15525 Sand Canyon Ave. Irvine\, CA 92618
UID:e.856.18822
SEQUENCE:3
DTSTAMP:20260421T113559Z
URL:https://app.greaterirvinechamber.com/events/details/greater-irvine-career-fair-18822
END:VEVENT

END:VCALENDAR
