BEGIN:VCALENDAR
VERSION:2.0
PRODID:-//ChamberMaster//Event Calendar 2.0//EN
METHOD:PUBLISH
X-PUBLISHED-TTL:P3D
REFRESH-INTERVAL:P3D
CALSCALE:GREGORIAN
BEGIN:VEVENT
DTSTART:20171205T160000Z
DTEND:20171205T180000Z
X-MICROSOFT-CDO-ALLDAYEVENT:FALSE
SUMMARY:Grant Money to Kickstart Your Export Sales
DESCRIPTION:COMPETE\, WIN\, AND GROW YOUR\n\nBUSINESS THROUGH EXPORTING\n\n\n\nLearn how the Small Business Development Center (SBDC) and the\n\nExport-Import Bank of the United States (EXIM) can assist you in\n\nexpanding your company's global sales and reducing financial risk. We\n\nwill cover the following topics:\n\n	CA STEP Grant opportunities and how to complete applicationThe" JD.com - US Select" opportunity   one of China's largest eCommerce Platforms.\n	How to apply and register for the CA STEP Grant\n	Mitigating nonpayment risks and accessing working capital\n	How to ensure you are selecting the best international distributor\n	Qualifying international distributors\n\nBrought to you by\n\nEXPORT/IMPORT BANK\n\nSmall Business Development Center (SBDC)\n\nGreater Irvine Chamber of Commerce
X-ALT-DESC;FMTTYPE=text/html:<span style="color:#008080\;"><span style="font-size: 18px\;"><strong>COMPETE\, WIN\, AND GROW YOUR<br />\nBUSINESS THROUGH EXPORTING</strong></span></span><br />\n<br />\nLearn how the Small Business Development Center (SBDC) and the<br />\nExport-Import Bank of the United States (EXIM) can assist you in<br />\nexpanding your company&rsquo\;s global sales and reducing financial risk. We<br />\nwill cover the following topics:\n<ul>\n	<li>CA STEP Grant opportunities and how to complete applicationThe&rdquo\; JD.com - US Select&rdquo\; opportunity &ndash\; one of China&rsquo\;s largest eCommerce Platforms.</li>\n	<li>How to apply and register for the CA STEP Grant</li>\n	<li>Mitigating nonpayment risks and accessing working capital</li>\n	<li>How to ensure you are selecting the best international distributor</li>\n	<li>Qualifying international distributors</li>\n</ul>\nBrought to you by<br />\nEXPORT/IMPORT BANK<br />\nSmall Business Development Center (SBDC)<br />\nGreater Irvine Chamber of Commerce<br />\n&nbsp\;
LOCATION:Greater Irvine Chamber of Commerce 36 Executive Park\, Ste. 100 Irvine\, CA 92614
UID:e.856.16543
SEQUENCE:3
DTSTAMP:20260421T083931Z
URL:https://app.greaterirvinechamber.com/events/details/grant-money-to-kickstart-your-export-sales-16543
END:VEVENT

END:VCALENDAR
