BEGIN:VCALENDAR
VERSION:2.0
PRODID:-//ChamberMaster//Event Calendar 2.0//EN
METHOD:PUBLISH
X-PUBLISHED-TTL:P3D
REFRESH-INTERVAL:P3D
CALSCALE:GREGORIAN
BEGIN:VEVENT
DTSTART:20171005T150000Z
DTEND:20171005T163000Z
X-MICROSOFT-CDO-ALLDAYEVENT:FALSE
SUMMARY:Government Affairs Committee
DESCRIPTION:This month's meeting will feature Irvine City Councilmember Jeffrey Lalloway.  Councilman Lalloway will provide an update from the City and discuss his priorities heading into the new year.\n\n\n\nThe mission of the Government Affairs Committee is to educate the business community on legislative issues that will affect their business and the Greater Irvine Community. The committee also advocates to and educates elected officials at all levels on the Chamber's public policy positions.
X-ALT-DESC;FMTTYPE=text/html:<span style="color: black"><span style="font-family: verdana\, sans-serif"><span style="font-size: 10pt"><font color="#000000" size="2">This month&#39\;s meeting will feature Irvine City Councilmember Jeffrey Lalloway. &nbsp\;Councilman Lalloway will provide an update from the City and discuss his priorities heading into the new year.<br />\n<br />\nThe mission of the Government Affairs Committee is to educate the business community on legislative issues that will affect their business and the Greater Irvine Community. The committee also advocates to and educates elected officials at all levels on the Chamber&#39\;s public policy positions.</font></span></span></span>
LOCATION:Greater Irvine Chamber of Commerce 36 Executive Park\, Suite 100 Irvine\, CA 92614
UID:e.856.2616
SEQUENCE:3
DTSTAMP:20260421T130324Z
URL:https://app.greaterirvinechamber.com/events/details/government-affairs-committee-10-05-2017-2616
END:VEVENT

END:VCALENDAR
