BEGIN:VCALENDAR
VERSION:2.0
PRODID:-//ChamberMaster//Event Calendar 2.0//EN
METHOD:PUBLISH
X-PUBLISHED-TTL:P3D
REFRESH-INTERVAL:P3D
CALSCALE:GREGORIAN
BEGIN:VEVENT
DTSTART:20170913T190000Z
DTEND:20170913T200000Z
X-MICROSOFT-CDO-ALLDAYEVENT:FALSE
SUMMARY:FREE Lunch & Learn: First Aid & Safety Skills Course
DESCRIPTION:Join us for a FREE safety skills course!\n\nAttendees will be trained on basic first aid principles\, how to recognize and respond to medical emergencies\, specific steps for treating injuries\, and even how to use a fire extinguisher.\n\nWe will review signs\, symptoms\, and recommended actions including response to cardiac arrest\, stroke\, choking\, and fires.\n\n* Lunch will be provided *\n\n \n\nEmail or call to register:\n\n714-646-2567\n\nSaundersC2@cintas.com
X-ALT-DESC;FMTTYPE=text/html:<div style="text-align: center\;"><span style="color:red"><span style="font-size:medium"><span style="font-family:calibri">Join us for a FREE safety skills course!</span></span></span><br />\n<span style="font-size:medium"><span style="font-family:calibri">Attendees will be trained on basic first aid principles\, how to recognize and respond to medical emergencies\, specific steps for treating injuries\, and even how to use a fire extinguisher.</span></span><br />\n<span style="font-size:medium"><span style="font-family:calibri">We will review signs\, symptoms\, and recommended actions including response to cardiac arrest\, stroke\, choking\, and fires.</span></span><br />\n<span style="color:red"><span style="font-size:medium"><span style="font-family:calibri">* Lunch will be provided *</span></span></span><br />\n&nbsp\;<br />\n<span style="font-size:medium"><span style="font-family:calibri">Email or call to register:</span></span><br />\n<span style="font-size:medium"><span style="font-family:calibri">714-646-2567</span></span><br />\n<a href="mailto:SaundersC2@cintas.com">SaundersC2@cintas.com</a></div>\n
LOCATION:4230 E Miraloma Ave Anaheim\, CA 92807
UID:e.856.14855
SEQUENCE:3
DTSTAMP:20260421T100355Z
URL:https://app.greaterirvinechamber.com/events/details/free-lunch-learn-first-aid-safety-skills-course-14855
END:VEVENT

END:VCALENDAR
