BEGIN:VCALENDAR
VERSION:2.0
PRODID:-//ChamberMaster//Event Calendar 2.0//EN
METHOD:PUBLISH
X-PUBLISHED-TTL:P3D
REFRESH-INTERVAL:P3D
CALSCALE:GREGORIAN
BEGIN:VEVENT
DTSTART:20180922T000000Z
DTEND:20180922T050000Z
X-MICROSOFT-CDO-ALLDAYEVENT:FALSE
SUMMARY:Fish Family Night
DESCRIPTION:Get excited for the second annual Fish Family Night returning to FivePoint Amphitheatre on September 21st! The event will feature an incredible lineup including for KING & COUNTRY\, Tenth Avenue North\, Plumb\, Unspoken\, Hannah Kerr\, and Dan Bremnes! It'll be a time of worship\, community\, and fun for the whole family and tickets start at just $19.95! Grab your friends and come worship under the stars - it's a evening of music you won't want to miss!
X-ALT-DESC;FMTTYPE=text/html:Get excited for the second annual Fish Family Night returning to FivePoint Amphitheatre on September 21st! The event will feature an incredible lineup including for KING &amp\; COUNTRY\, Tenth Avenue North\, Plumb\, Unspoken\, Hannah Kerr\, and Dan Bremnes! It&rsquo\;ll be a time of worship\, community\, and fun for the whole family and tickets start at just $19.95! Grab your friends and come worship under the stars - it&rsquo\;s a evening of music you won&rsquo\;t want to miss!
LOCATION:FivePoint Amphitheatre 14800 Chinon\, Irvine\, CA 92618
UID:e.856.18823
SEQUENCE:3
DTSTAMP:20260421T130232Z
URL:https://app.greaterirvinechamber.com/events/details/fish-family-night-18823
END:VEVENT

END:VCALENDAR
