BEGIN:VCALENDAR
VERSION:2.0
PRODID:-//ChamberMaster//Event Calendar 2.0//EN
METHOD:PUBLISH
X-PUBLISHED-TTL:P3D
REFRESH-INTERVAL:P3D
CALSCALE:GREGORIAN
BEGIN:VEVENT
DTSTART:20220719T230000Z
DTEND:20220720T003000Z
X-MICROSOFT-CDO-ALLDAYEVENT:FALSE
SUMMARY:Economic Vitality Council
DESCRIPTION:Focus on \n\n\n	New Committee Structure and Leadership 2022-2023\n	Findings from the 2022 Irvine Business Outreach survey
X-ALT-DESC;FMTTYPE=text/html:<p class="textEvent" style="padding-right: 20px\; font-size: 12px"><span style="font-size:20px\;"><strong>Focus on </strong></span></p>\n\n<ul>\n	<li class="textEvent" style="padding-right: 20px\; font-size: 12px\;"><span style="font-size:14px\;">New Committee Structure and Leadership 2022-2023</span></li>\n	<li class="textEvent" style="padding-right: 20px\; font-size: 12px\;"><span style="font-size:20px\;"><span style="font-size:14px\;"><span style="font-size:14px\;">Findings from the 2022 </span></span><strong><span style="font-size:14px\;"><span style="font-size:14px\;"><strong>Irvine Business Outreach</strong> survey</span></span></strong></span></li>\n</ul>\n
LOCATION:Irvine Chamber of Commerce 36 Executive Park\, Ste. 100 Irvine\, CA 92614
UID:e.856.20846
SEQUENCE:3
DTSTAMP:20260419T174944Z
URL:https://app.greaterirvinechamber.com/events/details/economic-vitality-council-20846
END:VEVENT

END:VCALENDAR
