BEGIN:VCALENDAR
VERSION:2.0
PRODID:-//ChamberMaster//Event Calendar 2.0//EN
METHOD:PUBLISH
X-PUBLISHED-TTL:P3D
REFRESH-INTERVAL:P3D
CALSCALE:GREGORIAN
BEGIN:VEVENT
DTSTART:20180923T003000Z
DTEND:20180924T020000Z
X-MICROSOFT-CDO-ALLDAYEVENT:FALSE
SUMMARY:Don Baylor 65 Roses Memorial Classic
DESCRIPTION:The 40th Annual Don Baylor 65 Roses Memorial Golf Classic hosted by Doug DeCinces and Bobby Grich. This two day dinner and golf tournament boasts some unique live auction items\, a fantastic dinner\, and a fun-packed golf tournament at Strawberry Farms on Sunday.
X-ALT-DESC;FMTTYPE=text/html:The 40th Annual Don Baylor 65 Roses Memorial Golf Classic hosted by Doug DeCinces and Bobby Grich. This two day dinner and golf tournament boasts some unique live auction items\, a fantastic dinner\, and a fun-packed golf tournament at Strawberry Farms on Sunday.
LOCATION:Dinner - Newport Beach Marriott Hotel & Spa Golf - Strawberry Farms Golf Club
UID:e.856.18820
SEQUENCE:3
DTSTAMP:20260421T130229Z
URL:https://app.greaterirvinechamber.com/events/details/don-baylor-65-roses-memorial-classic-18820
END:VEVENT

END:VCALENDAR
