BEGIN:VCALENDAR
VERSION:2.0
PRODID:-//ChamberMaster//Event Calendar 2.0//EN
METHOD:PUBLISH
X-PUBLISHED-TTL:P3D
REFRESH-INTERVAL:P3D
CALSCALE:GREGORIAN
BEGIN:VEVENT
DTSTART:20221030T200000Z
DTEND:20221031T000000Z
X-MICROSOFT-CDO-ALLDAYEVENT:FALSE
SUMMARY:Diamond Jamboree Halloween
DESCRIPTION:Please join us this year at Diamond Jamboree for Halloween on Sunday Oct. 30th in our atrium area (near Sunright Tea). We will be hosting several free family friendly events including our annual Dog Costume contest\, a performance from UCI's Kpop Dance team and a live food challenge with foodie @RainaIsCrazy There will be a dog treat truck @FidoToGoHB and plenty of fun giveaways from some of our tenants.
X-ALT-DESC;FMTTYPE=text/html:Please join us this year at Diamond Jamboree for Halloween on Sunday Oct. 30th in our atrium area (near Sunright Tea). We will be hosting several free family friendly events including our annual Dog Costume contest\, a performance from UCI&#39\;s Kpop Dance team and a live food challenge with foodie @RainaIsCrazy There will be a dog treat truck @FidoToGoHB and plenty of fun giveaways from some of our tenants.
LOCATION:Diamond Jamboree Atrium ( Near Sunright Tea)
UID:e.856.20938
SEQUENCE:3
DTSTAMP:20260421T083257Z
URL:https://app.greaterirvinechamber.com/events/details/diamond-jamboree-halloween-20938
END:VEVENT

END:VCALENDAR
