BEGIN:VCALENDAR
VERSION:2.0
PRODID:-//ChamberMaster//Event Calendar 2.0//EN
METHOD:PUBLISH
X-PUBLISHED-TTL:P3D
REFRESH-INTERVAL:P3D
CALSCALE:GREGORIAN
BEGIN:VEVENT
DTSTART;VALUE=DATE:20131225
DTEND;VALUE=DATE:20131226
TRANSP:TRANSPARENT
X-MICROSOFT-CDO-ALLDAYEVENT:TRUE
SUMMARY:Christmas Holiday
DESCRIPTION:Chamber will be closed
X-ALT-DESC;FMTTYPE=text/html:Chamber will be closed
LOCATION:
UID:e.856.5626
SEQUENCE:3
DTSTAMP:20260421T083737Z
URL:https://app.greaterirvinechamber.com/events/details/christmas-holiday-12-25-2013-5626
END:VEVENT

END:VCALENDAR
