BEGIN:VCALENDAR
VERSION:2.0
PRODID:-//ChamberMaster//Event Calendar 2.0//EN
METHOD:PUBLISH
X-PUBLISHED-TTL:P3D
REFRESH-INTERVAL:P3D
CALSCALE:GREGORIAN
BEGIN:VEVENT
DTSTART:20221015T153000Z
DTEND:20221015T200000Z
X-MICROSOFT-CDO-ALLDAYEVENT:FALSE
SUMMARY:Career Edge: Successful Business Etiquette & Workplace Behaviors
DESCRIPTION:Learn how to adapt and leverage your workplace environment. Explore basic business practices\, etiquette\, and professional attitudes and characteristics that will define you. Improve your ability to influence\, perform\, and manage people\, expectations\, and situations. Learn how to navigate the demands and expectations of a fast-paced and evolving workplace. Explore a variety of workplace cultures and test your abilities to adapt.\n\n\n\nLed by Dr. Massiel Perez-Calhoon\, Ed.D.\, of University of Massachusetts Global\, you'll have a wealth of information at your fingertips. Dr. Perez-Calhoon earned a Doctor of Education in organizational leadership from the Chapman University system and holds a master's in teaching\, bachelor's in psychology\, bachelor's in Spanish and a minor in education from the University of California\, Irvine (UCI).
X-ALT-DESC;FMTTYPE=text/html:<span style="font-size:14px\;"><span style="font-family:arial\;">Learn how to adapt and leverage your workplace environment. Explore basic business practices\, etiquette\, and professional attitudes and characteristics that will define you. Improve your ability to influence\, perform\, and manage people\, expectations\, and situations. Learn how to navigate the demands and expectations of a fast-paced and evolving workplace. Explore a variety of workplace cultures and test your abilities to adapt.<br />\n<br />\nLed by Dr. Massiel Perez-Calhoon\, Ed.D.\, of University of Massachusetts Global\, you&#39\;ll have a wealth of information at your fingertips. Dr. Perez-Calhoon earned a Doctor of Education in organizational leadership from the Chapman University system and holds a master&rsquo\;s in teaching\, bachelor&rsquo\;s in psychology\, bachelor&rsquo\;s in Spanish and a minor in education from the University of California\, Irvine (UCI). </span></span>
LOCATION:Greater Irvine Chamber 36 Executive Park\, Ste. 100 Irvine\, CA 92614
UID:e.856.20907
SEQUENCE:3
DTSTAMP:20260421T084004Z
URL:https://app.greaterirvinechamber.com/events/details/career-edge-successful-business-etiquette-workplace-behaviors-20907
END:VEVENT

END:VCALENDAR
