BEGIN:VCALENDAR
VERSION:2.0
PRODID:-//ChamberMaster//Event Calendar 2.0//EN
METHOD:PUBLISH
X-PUBLISHED-TTL:P3D
REFRESH-INTERVAL:P3D
CALSCALE:GREGORIAN
BEGIN:VEVENT
DTSTART:20171220T000000Z
DTEND:20171220T010000Z
X-MICROSOFT-CDO-ALLDAYEVENT:FALSE
SUMMARY:Business & Workforce Development Committee
DESCRIPTION:Tuesday\, December 19 4 p.m.\n\nThe holidays in all their forms and expressions are here! We have a little memento for you and a lot to celebrate! So\, let's get together one last time before the end of 2017 \n\n  and then let's get to work!\n\n\n\n KNOWLEDGE MULTIPLIER\n\nhttps://www.forbes.com/sites/bernardmarr/2017/10/12/instead-of-destroying-jobs-artificial-intelligence-ai-is-creating-new-jobs-in-4-out-of-5-companies/#159cf45c120d\n\n	Emerging Sectors in Irvine: Want to know what businesses are taking off in Irvine? Be there for the roll-out and discussion of new research completed on Emerging Sectors in Irvine!\n	Job Discovery Day: Help us build out the impact of Job Discovery Day for our middle and high school students   we need company connections and resources.\n	Career Edge: Volunteer to mentor at February's Career Edge workshop   we need people who know how to help young people become more effective workplace contributors.\n	Business Outreach Rally: Never too soon to start planning the next Business Outreach Rally in April   we need your advice on geographic versus vertical\, new survey questions and more.
X-ALT-DESC;FMTTYPE=text/html:<br />\n<strong>Tuesday\, December 19 4 p.m.</strong><br />\nThe holidays in all their forms and expressions are here! We have a little memento for you and a lot to celebrate! So\, let&rsquo\;s get together one last time before the end of 2017&hellip\;<br />\n&hellip\; and then let&rsquo\;s get to work!<br />\n<br />\n<span style="font-size:18px\;"><span style="color: rgb(0\, 128\, 128)\;"><strong><span style="font-family: calibri\, sans-serif\;">&nbsp\;<u>KNOWLEDGE MULTIPLIER</u></span></strong></span></span><br />\n<span style="font-family:calibri\,sans-serif\;"><span style="font-size:11.0pt\;"><a href="https://www.forbes.com/sites/bernardmarr/2017/10/12/instead-of-destroying-jobs-artificial-intelligence-ai-is-creating-new-jobs-in-4-out-of-5-companies/#159cf45c120d">https://www.forbes.com/sites/bernardmarr/2017/10/12/instead-of-destroying-jobs-artificial-intelligence-ai-is-creating-new-jobs-in-4-out-of-5-companies/#159cf45c120d</a></span></span>\n<ul>\n	<li><span style="color:#008080\;"><strong>Emerging Sectors in Irvine</strong></span>: Want to know what businesses are taking off in Irvine? Be there for the roll-out and discussion of new research completed on Emerging Sectors in Irvine!</li>\n	<li><span style="color:#008080\;"><strong>Job Discovery Day</strong></span>: Help us build out the impact of Job Discovery Day for our middle and high school students &ndash\; we need company connections and resources.</li>\n	<li><span style="color:#008080\;"><strong>Career Edge</strong></span>: Volunteer to mentor at February&rsquo\;s Career Edge workshop &ndash\; we need people who know how to help young people become more effective workplace contributors.</li>\n	<li><span style="color:#008080\;"><strong>Business Outreach Rally</strong></span>: Never too soon to start planning the next Business Outreach Rally in April &ndash\; we need your advice on geographic versus vertical\, new survey questions and more.</li>\n</ul>\n
LOCATION:Irvine Chamber of Commerce 36 Executive Park\, Ste. 100 Irvine\, CA 92614
UID:e.856.5851
SEQUENCE:3
DTSTAMP:20260421T083930Z
URL:https://app.greaterirvinechamber.com/events/details/business-attraction-retention-committee-12-19-2017-5851
END:VEVENT

END:VCALENDAR
