BEGIN:VCALENDAR
VERSION:2.0
PRODID:-//ChamberMaster//Event Calendar 2.0//EN
METHOD:PUBLISH
X-PUBLISHED-TTL:P3D
REFRESH-INTERVAL:P3D
CALSCALE:GREGORIAN
BEGIN:VEVENT
DTSTART:20171122T000000Z
DTEND:20171122T010000Z
X-MICROSOFT-CDO-ALLDAYEVENT:FALSE
SUMMARY:Business & Workforce Development Committee
DESCRIPTION:We need your experience and expertise to tackle some big items in November:\n\n	Job Discovery Day\, Career Edge\, Financial Forum!\n	Business Outreach Rally evaluation and awards for Rally participants!\n	Next steps for making it easier for our businesses to find the workforce resources they need. We are exploring how best to collect and curate existing workforce development programs and tools and build out the Chamber's Economic Development website.  We need your ideas\, tools and online resources.\n\nKnowledge Multiplier: Human Intuition Is the Future of Innovation and Entrepreneurship\n\nhttps://www-entrepreneur-com.cdn.ampproject.org/c/s/www.entrepreneur.com/amphtml/295460\n\nQuestions:\n\n	What does this mean for the future of jobs in Irvine/OC's biggest industry sectors   life science and technology?\n	What jobs will be directly impacted/influenced by this next wave of AI\, AR and VR?\n	What jobs won't be impacted or influenced by this technology?
X-ALT-DESC;FMTTYPE=text/html:<span style="color:#008080\;"><strong>We need your experience and expertise to tackle some big items in November:</strong></span>\n<ul>\n	<li>Job Discovery Day\, Career Edge\, Financial Forum!</li>\n	<li>Business Outreach Rally evaluation and awards for Rally participants!</li>\n	<li>Next steps for making it easier for our businesses to find the workforce resources they need. We are exploring how best to collect and curate existing workforce development programs and tools and build out the Chamber&rsquo\;s Economic Development website.&nbsp\; We need your ideas\, tools and online resources.</li>\n</ul>\n<strong>Knowledge Multiplier:</strong> <strong>H</strong><strong>uman Intuition Is the Future of Innovation and Entrepreneurship</strong><br />\n<a href="https://www-entrepreneur-com.cdn.ampproject.org/c/s/www.entrepreneur.com/amphtml/295460">https://www-entrepreneur-com.cdn.ampproject.org/c/s/www.entrepreneur.com/amphtml/295460</a><br />\nQuestions:\n<ul>\n	<li>What does this mean for the future of jobs in Irvine/OC&rsquo\;s biggest industry sectors &ndash\; life science and technology?</li>\n	<li>What jobs will be directly impacted/influenced by this next wave of AI\, AR and VR?</li>\n	<li>What jobs won&rsquo\;t be impacted or influenced by this technology?</li>\n</ul>\n
LOCATION:Irvine Chamber of Commerce 36 Executive Park\, Ste. 100 Irvine\, CA 92614
UID:e.856.5850
SEQUENCE:3
DTSTAMP:20260421T100449Z
URL:https://app.greaterirvinechamber.com/events/details/business-attraction-retention-committee-11-21-2017-5850
END:VEVENT

END:VCALENDAR
