BEGIN:VCALENDAR
VERSION:2.0
PRODID:-//ChamberMaster//Event Calendar 2.0//EN
METHOD:PUBLISH
X-PUBLISHED-TTL:P3D
REFRESH-INTERVAL:P3D
CALSCALE:GREGORIAN
BEGIN:VEVENT
DTSTART:20171017T230000Z
DTEND:20171018T000000Z
X-MICROSOFT-CDO-ALLDAYEVENT:FALSE
SUMMARY:Business & Workforce Development Committee
DESCRIPTION:Business & Workforce Development Committee\n\nMembers of the Greater Irvine Chamber are taking a pro-active role in better preparing our workforce for the future and its 21st century jobs. We need your perspective\, networks and connections to develop and implement the most effective strategies. \n\nJoin us for a solutions-oriented discussion and strategy meeting. Topics include:\n\n \n\n\n	7 Critical Skills for the Jobs of the Future\n	 The Future of Work   all committee members are asked to come prepared with options and ideas about how/what impact the B&WD Committee can have in this area and what role a new Task Force can play to advance these ideas?\n	 Ready to Rally? Join your fellow members on October 25 for our award-winning business retention and outreach day. Meeting attendees will learn more about the life science businesses we are going to call on. \n	Help plan Irvine Career Discovery Day! Let's strategize about how we are going to inform our young people about Irvine's job opportunities. \n\n\n And so much more!
X-ALT-DESC;FMTTYPE=text/html:<p><span style="font-size:16px\;"><strong>Business &amp\; Workforce Development Committee</strong></span><br />\n<span style="font-family:calibri\,sans-serif\;">Members of the Greater Irvine Chamber are taking a pro-active role in better preparing our workforce for the future and its 21<sup>st</sup> century jobs. We need your perspective\, networks and connections to develop and implement the most effective strategies. </span><br />\n<span style="font-family:calibri\,sans-serif\;">Join us for a solutions-oriented discussion and strategy meeting. Topics include:</span><br />\n&nbsp\;</p>\n\n<ul>\n	<li><a href="/media/userfiles/subsite_132/files/7%20Critical%20Skills%20for%20the%20Jobs%20of%20the%20Future.pdf"><span style="color:#008080\;"><strong>7 Critical Skills for the Jobs of the Future</strong></span></a></li>\n	<li><span style="font-size:14px\;">&nbsp\;<span style="font-family: calibri\,sans-serif\;">The Future of Work &ndash\; all committee members are asked to come prepared with options and ideas about how/what impact the B&amp\;WD Committee can have in this area and what role a new Task Force can play to advance these ideas?</span></span></li>\n	<li><span style="font-size:14px\;">&nbsp\;<span style="font-family: calibri\,sans-serif\;">Ready to Rally? Join your fellow members on October 25 for our award-winning business retention and outreach day. Meeting attendees will learn more about the life science businesses we are going to call on.</span>&nbsp\;</span></li>\n	<li><span style="font-size:14px\;"><span style="font-family: calibri\,sans-serif\;">Help plan Irvine Career Discovery Day! Let&rsquo\;s strategize about how we are going to inform our young people about Irvine&rsquo\;s job opportunities. </span></span></li>\n</ul>\n\n<p>&nbsp\;<span style="font-family:calibri\,sans-serif\;">And so much more!</span></p>\n
LOCATION:Greater Irvine Chamber of Commerce 36 Executive Park\, Ste. 100 Irvine\, CA 92614
UID:e.856.5849
SEQUENCE:3
DTSTAMP:20260421T130309Z
URL:https://app.greaterirvinechamber.com/events/details/business-attraction-retention-committee-10-17-2017-5849
END:VEVENT

END:VCALENDAR
