BEGIN:VCALENDAR
VERSION:2.0
PRODID:-//ChamberMaster//Event Calendar 2.0//EN
METHOD:PUBLISH
X-PUBLISHED-TTL:P3D
REFRESH-INTERVAL:P3D
CALSCALE:GREGORIAN
BEGIN:VEVENT
DTSTART:20170919T230000Z
DTEND:20170920T000000Z
X-MICROSOFT-CDO-ALLDAYEVENT:FALSE
SUMMARY:Business & Workforce Development Committee
DESCRIPTION:New Energy!  New Opportunities!  Inspired Synergy!\n\n\n\nFeatured topic for discussion:  Future of Work\n\nhttps://www.theguardian.com/us-news/2017/jun/26/jobs-future-automation-robots-skills-creative-health\n\n\n\nDon't miss the next meeting -- bring your perspective\, ideas and solutions with you. . .\n\n	October 25 -- Business Outreach Rally update\n	Startup Eco-System -- next stage engagement\n	Career Readiness Reports: Financial Forum\, Irvine Job Discovery Day\n	Career Edge -- October 7\, Mentors wanted!\n	Ostrich or Eagle? Business Preparedness & Recovery Summit\, October 19\n\nQuestion:  What geographic area in California and what industry sector in California do you think is ripe for Irvine to attract businesses to relocate here and why?\n\n\n\nTuesday\, September 19\, 2017  4:00 p.m. at the Chamber offices
X-ALT-DESC;FMTTYPE=text/html:<span style="font-size:18px\;"><span style="color: rgb(0\, 128\, 128)\;"><strong>New Energy!&nbsp\; New Opportunities!&nbsp\; Inspired Synergy!</strong></span></span><br />\n<br />\n<span style="font-size:16px\;"><strong>Featured topic for discussion</strong>:&nbsp\; Future of Work</span><br />\n<a href="https://www.theguardian.com/us-news/2017/jun/26/jobs-future-automation-robots-skills-creative-health">https://www.theguardian.com/us-news/2017/jun/26/jobs-future-automation-robots-skills-creative-health</a><br />\n<br />\nDon&#39\;t miss the next meeting -- bring your perspective\, ideas and solutions with you. . .\n<ul>\n	<li>October 25 -- Business Outreach Rally update</li>\n	<li>Startup Eco-System -- next stage engagement</li>\n	<li>Career Readiness Reports: Financial Forum\, Irvine Job Discovery Day</li>\n	<li>Career Edge -- October 7\, Mentors wanted!</li>\n	<li>Ostrich or Eagle? Business Preparedness &amp\; Recovery Summit\, October 19</li>\n</ul>\n<strong>Question:</strong>&nbsp\; <em>What geographic area in California and what industry sector in California do you think is ripe for Irvine to attract businesses to relocate here and why?</em><br />\n<br />\n<span style="font-size:16px\;"><span style="color: rgb(0\, 128\, 128)\;"><strong>Tuesday\, September 19\, 2017&nbsp\; 4:00 p.m. at the Chamber offices</strong></span></span><br />\n<br />\n<br />\n<br />\n&nbsp\;
LOCATION:Greater Irvine Chamber of Commerce 36 Executive Park\, Ste. 100 Irvine\, CA 92614
UID:e.856.5848
SEQUENCE:3
DTSTAMP:20260421T100449Z
URL:https://app.greaterirvinechamber.com/events/details/business-attraction-retention-committee-09-19-2017-5848
END:VEVENT

END:VCALENDAR
