BEGIN:VCALENDAR
VERSION:2.0
PRODID:-//ChamberMaster//Event Calendar 2.0//EN
METHOD:PUBLISH
X-PUBLISHED-TTL:P3D
REFRESH-INTERVAL:P3D
CALSCALE:GREGORIAN
BEGIN:VEVENT
DTSTART:20180918T230000Z
DTEND:20180919T000000Z
X-MICROSOFT-CDO-ALLDAYEVENT:FALSE
SUMMARY:Business & Workforce Development Committee
DESCRIPTION:The Business & Workforce Development Committee sustains a business outreach program and on-going relationships with Irvine companies to encourage retention\, growth & expansion.\n\n\n\nWe have the EVC survey results!\n\nNow we need your help in getting our trusty Task Forces on the job. \n\nJoin us on Tuesday\, September 18th and help us jumpstart the process of:\n\n	Promoting Life Science and Information Technology Job Opportunities to Students\n	Identifying 21st Century Job Fair Options\n	Attracting and Retaining Talent   Working with Company H.R. Departments\n	Expanding the Chamber's impact with Small and Mediums sized companies\n\nLet's get to work!! See you on Tuesday\, September 18th!
X-ALT-DESC;FMTTYPE=text/html:The Business &amp\; Workforce Development Committee sustains a business outreach program and on-going relationships with Irvine companies to encourage retention\, growth &amp\; expansion.<br />\n<br />\n<span style="font-size:12.0pt\;"><span style="color:#008080\;"><strong>We have the EVC survey results!</strong></span><br />\nNow we need your help in getting our trusty Task Forces on the job. </span><br />\n<span style="font-size:12.0pt\;">Join us on Tuesday\, September 18<sup>th</sup> and help us jumpstart the process of:</span>\n<ul>\n	<li><span style="font-size:12.0pt\;">Promoting Life Science and Information Technology Job Opportunities to Students</span></li>\n	<li><span style="font-size:12.0pt\;">Identifying 21<sup>st</sup> Century Job Fair Options</span></li>\n	<li><span style="font-size:12.0pt\;">Attracting and Retaining Talent &ndash\; Working with Company H.R. Departments</span></li>\n	<li><span style="font-size:16px\;">Expanding the Chamber&rsquo\;s impact with Small and Mediums sized companies</span></li>\n</ul>\n<span style="font-size:20px\;"><span style="color:#008080\;"><strong>Let&#39\;s get to work!! See you on Tuesday\, September 18th!</strong></span></span><br />\n&nbsp\;
LOCATION:Irvine Chamber of Commerce 36 Executive Park\, Ste. 100 Irvine\, CA 92614
UID:e.856.5860
SEQUENCE:3
DTSTAMP:20260421T113730Z
URL:https://app.greaterirvinechamber.com/events/details/business-attraction-retention-committee-09-18-2018-5860
END:VEVENT

END:VCALENDAR
