BEGIN:VCALENDAR
VERSION:2.0
PRODID:-//ChamberMaster//Event Calendar 2.0//EN
METHOD:PUBLISH
X-PUBLISHED-TTL:P3D
REFRESH-INTERVAL:P3D
CALSCALE:GREGORIAN
BEGIN:VEVENT
DTSTART:20220719T170000Z
DTEND:20220719T230000Z
X-MICROSOFT-CDO-ALLDAYEVENT:FALSE
SUMMARY:American Red Cross Blood Drive
DESCRIPTION:We are excited to partner with the American Red Cross on July 19\, 2022 to launch the first of what we hope will be many blood drives. We'll be working together to give back to the community in a truly life changing way since each donation we collect can save up to three lives. Let's make an impact on July 19\, 2022 and add saving lives to our list of great accomplishments. Our personal sign up donor code is: AGF JOIN US https://www.redcrossblood.org
X-ALT-DESC;FMTTYPE=text/html:We are excited to partner with the American Red Cross on July 19\, 2022 to launch the first of what we hope will be many blood drives. We&rsquo\;ll be working together to give back to the community in a truly life changing way since each donation we collect can save up to three lives. Let&rsquo\;s make an impact on July 19\, 2022 and add saving lives to our list of great accomplishments. Our personal sign up donor code is: AGF JOIN US https://www.redcrossblood.org
LOCATION:2111 Business Center Drive Irvine\, CA 92612
UID:e.856.20867
SEQUENCE:3
DTSTAMP:20260419T175147Z
URL:https://app.greaterirvinechamber.com/events/details/american-red-cross-blood-drive-20867
END:VEVENT

END:VCALENDAR
