BEGIN:VCALENDAR
VERSION:2.0
PRODID:-//ChamberMaster//Event Calendar 2.0//EN
METHOD:PUBLISH
X-PUBLISHED-TTL:P3D
REFRESH-INTERVAL:P3D
CALSCALE:GREGORIAN
BEGIN:VEVENT
DTSTART:20221001T150000Z
DTEND:20221001T190000Z
X-MICROSOFT-CDO-ALLDAYEVENT:FALSE
SUMMARY:2022 Walk to End Alzheimer's
DESCRIPTION:Support our team for the Alzheimer's Association Walk to End Alzheimer's \, the world's largest event to raise awareness and funds for Alzheimer's care\, support and research.\n\n\n\nRegistration starts at 8AM\n\nCeremony starts at 9:45AM\n\nWalk at 10AM\n\n\n\nJoin our team here: https://act.alz.org/site/TR/Walk2022/CA-OrangeCounty?team_id=770508&pg=team&fr_id=15433
X-ALT-DESC;FMTTYPE=text/html:Support our team for the Alzheimer&#39\;s Association Walk to End Alzheimer&#39\;s&reg\;\, the world&rsquo\;s largest event to raise awareness and funds for Alzheimer&rsquo\;s care\, support and research.<br />\n<br />\nRegistration starts at 8AM<br />\nCeremony starts at 9:45AM<br />\nWalk at 10AM<br />\n<br />\nJoin our team here:&nbsp\;https://act.alz.org/site/TR/Walk2022/CA-OrangeCounty?team_id=770508&amp\;pg=team&amp\;fr_id=15433
LOCATION:Mike Ward Community Park Irvine\, CA
UID:e.856.20927
SEQUENCE:3
DTSTAMP:20260421T083735Z
URL:https://app.greaterirvinechamber.com/events/details/2022-walk-to-end-alzheimer-s-20927
END:VEVENT

END:VCALENDAR
