BEGIN:VCALENDAR
VERSION:2.0
PRODID:-//ChamberMaster//Event Calendar 2.0//EN
METHOD:PUBLISH
X-PUBLISHED-TTL:P3D
REFRESH-INTERVAL:P3D
CALSCALE:GREGORIAN
BEGIN:VEVENT
DTSTART:20180905T230000Z
DTEND:20180906T030000Z
X-MICROSOFT-CDO-ALLDAYEVENT:FALSE
SUMMARY:2018 Irvine City Council Candidates Forum
DESCRIPTION:The 2018 Irvine City Council Candidates Forum will provide residents of Irvine the opportunity to meet and hear from the candidates running for City Council and Mayor\, who will speak about their goals and vision for the city.\n\n\n\nThe session will be moderated by Jerry Amante.\n\n\n\nLight snacks and refreshments will be offered.\n\n\n\nRegistration is required.
X-ALT-DESC;FMTTYPE=text/html:The <strong>2018 Irvine City Council Candidates Forum</strong> will provide residents of Irvine the opportunity to meet and hear from the candidates running for City Council and Mayor\, who will speak about their goals and vision for the city.<br />\n<br />\nThe session will be moderated by Jerry Amante.<br />\n<br />\nLight snacks and refreshments will be offered.<br />\n<br />\n<strong>Registration is required.&nbsp\;</strong><br />\n&nbsp\;
LOCATION:Irvine Valley College Performing Arts Center 5500 Irvine Center Drive\, Irvine\, CA 92618
UID:e.856.18791
SEQUENCE:3
DTSTAMP:20260421T113732Z
URL:https://app.greaterirvinechamber.com/events/details/2018-irvine-city-council-candidates-forum-18791
END:VEVENT

END:VCALENDAR
