BEGIN:VCALENDAR
VERSION:2.0
PRODID:-//ChamberMaster//Event Calendar 2.0//EN
METHOD:PUBLISH
X-PUBLISHED-TTL:P3D
REFRESH-INTERVAL:P3D
CALSCALE:GREGORIAN
BEGIN:VEVENT
DTSTART:20171201T153000Z
DTEND:20171201T183000Z
X-MICROSOFT-CDO-ALLDAYEVENT:FALSE
SUMMARY:2018 Forecast and Value for Growth
DESCRIPTION:Top economist from First American shares key economic indicators to watch in 2018 and a panel of CEO/CFO/COOs share top 5 value strategies to build growth and profits for your business.
X-ALT-DESC;FMTTYPE=text/html:Top economist from First American shares key economic indicators to watch in 2018 and a panel of CEO/CFO/COOs share top 5 value strategies to build growth and profits for your business.
LOCATION:Executive Next Practices Institute @ UCI Applied Innovation
UID:e.856.16813
SEQUENCE:3
DTSTAMP:20260421T083255Z
URL:https://app.greaterirvinechamber.com/events/details/2018-forecast-and-value-for-growth-16813
END:VEVENT

END:VCALENDAR
